BEGIN:VCALENDAR
PRODID:-//Sri Lanka Promotions//NONSGML v1.0//EN
VERSION:2.0
CALSCALE:GREGORIAN
METHOD:PUBLISH
X-WR-CALNAME:Sri Lanka Promotions
X-ORIGINAL-URL:http://srilanka-promotions.com
X-WR-CALDESC:Events for Sri Lanka Promotions
BEGIN:VEVENT
DTSTART:20231004T000000
DTEND:20231011T235900
DTSTAMP:20260422T193925
CREATED:20231004T141445
LAST-MODIFIED:20231004T141445
UID:10069@http://srilanka-promotions.com
SUMMARY:Up to 42% off .COM and .ORG domain registrations at Namecheap till 11 Oct 2023
DESCRIPTION:Get the best deals on all the web products you could want. For more information, visit [ http://srilanka-promotions.com/computers-accessories-software/up-to-42-off-com-and-org-domain-registrations-at-namecheap-till-11-oct-2023-10069/ ]. 
LOCATION:
URL:http://srilanka-promotions.com/computers-accessories-software/up-to-42-off-com-and-org-domain-registrations-at-namecheap-till-11-oct-2023-10069/
END:VEVENT
END:VCALENDAR