BEGIN:VCALENDAR
PRODID:-//Sri Lanka Promotions//NONSGML v1.0//EN
VERSION:2.0
CALSCALE:GREGORIAN
METHOD:PUBLISH
X-WR-CALNAME:Sri Lanka Promotions
X-ORIGINAL-URL:http://srilanka-promotions.com
X-WR-CALDESC:Events for Sri Lanka Promotions
BEGIN:VEVENT
DTSTART:20231120T000000
DTEND:20231204T235900
DTSTAMP:20260422T193924
CREATED:20231120T150113
LAST-MODIFIED:20231120T150113
UID:10193@http://srilanka-promotions.com
SUMMARY:Acronis offering up to 50% off Acronis Cyber Protect Home Office Black Friday offer till 4 Dec 2023
DESCRIPTION:Your data is more vulnerable than ever and it needs protection. For more information, visit [ http://srilanka-promotions.com/computers-accessories-software/acronis-offering-up-to-50-off-acronis-cyber-protect-home-office-black-friday-offer-till-4-dec-2023-10193/ ]. 
LOCATION:
URL:http://srilanka-promotions.com/computers-accessories-software/acronis-offering-up-to-50-off-acronis-cyber-protect-home-office-black-friday-offer-till-4-dec-2023-10193/
END:VEVENT
END:VCALENDAR