BEGIN:VCALENDAR
PRODID:-//Sri Lanka Promotions//NONSGML v1.0//EN
VERSION:2.0
CALSCALE:GREGORIAN
METHOD:PUBLISH
X-WR-CALNAME:Sri Lanka Promotions
X-ORIGINAL-URL:http://srilanka-promotions.com
X-WR-CALDESC:Events for Sri Lanka Promotions
BEGIN:VEVENT
DTSTART:20240118T000000
DTEND:20240124T235900
DTSTAMP:20260422T175931
CREATED:20240118T174951
LAST-MODIFIED:20240118T174951
UID:10283@http://srilanka-promotions.com
SUMMARY:IHG offering up to 20% off hotels in SEA, Maldives, South Korea, Japan and more till 24 Jan, for stays up to 30 May
DESCRIPTION:Kickstart 2024 with your dream holiday. For more information, visit [ http://srilanka-promotions.com/vacations/ihg-offering-up-to-20-off-hotels-in-sea-maldives-south-korea-japan-and-more-till-24-jan-for-stays-up-to-30-may-10283/ ]. 
LOCATION:
URL:http://srilanka-promotions.com/vacations/ihg-offering-up-to-20-off-hotels-in-sea-maldives-south-korea-japan-and-more-till-24-jan-for-stays-up-to-30-may-10283/
END:VEVENT
END:VCALENDAR