BEGIN:VCALENDAR
PRODID:-//Sri Lanka Promotions//NONSGML v1.0//EN
VERSION:2.0
CALSCALE:GREGORIAN
METHOD:PUBLISH
X-WR-CALNAME:Sri Lanka Promotions
X-ORIGINAL-URL:http://srilanka-promotions.com
X-WR-CALDESC:Events for Sri Lanka Promotions
BEGIN:VEVENT
DTSTART:20240207T000000
DTEND:20240320T235900
DTSTAMP:20260422T175920
CREATED:20240207T173851
LAST-MODIFIED:20240207T173851
UID:10345@http://srilanka-promotions.com
SUMMARY:NordVPN offering up to 67% off VPN services till 20 Mar 2024
DESCRIPTION:Good fortune for the Year of the Dragon. For more information, visit [ http://srilanka-promotions.com/computers-accessories-software/nordvpn-offering-up-to-67-off-vpn-services-till-20-mar-2024-10345/ ]. 
LOCATION:
URL:http://srilanka-promotions.com/computers-accessories-software/nordvpn-offering-up-to-67-off-vpn-services-till-20-mar-2024-10345/
END:VEVENT
END:VCALENDAR