BEGIN:VCALENDAR
PRODID:-//Sri Lanka Promotions//NONSGML v1.0//EN
VERSION:2.0
CALSCALE:GREGORIAN
METHOD:PUBLISH
X-WR-CALNAME:Sri Lanka Promotions
X-ORIGINAL-URL:http://srilanka-promotions.com
X-WR-CALDESC:Events for Sri Lanka Promotions
BEGIN:VEVENT
DTSTART:20240227T000000
DTEND:20240229T235900
DTSTAMP:20260422T180611
CREATED:20240227T125501
LAST-MODIFIED:20240227T125501
UID:10411@http://srilanka-promotions.com
SUMMARY:Vodien S'pore offering up to 35% off web hosting and other services Leap Day promo till 29 Feb 2024
DESCRIPTION:Enjoy Vodien's Singapore web hosting and other services at an unbeatable price. For more information, visit [ http://srilanka-promotions.com/computers-accessories-software/vodien-spore-offering-up-to-35-off-web-hosting-and-other-services-leap-day-promo-till-29-feb-2024-10411/ ]. 
LOCATION:
URL:http://srilanka-promotions.com/computers-accessories-software/vodien-spore-offering-up-to-35-off-web-hosting-and-other-services-leap-day-promo-till-29-feb-2024-10411/
END:VEVENT
END:VCALENDAR