BEGIN:VCALENDAR
PRODID:-//Sri Lanka Promotions//NONSGML v1.0//EN
VERSION:2.0
CALSCALE:GREGORIAN
METHOD:PUBLISH
X-WR-CALNAME:Sri Lanka Promotions
X-ORIGINAL-URL:http://srilanka-promotions.com
X-WR-CALDESC:Events for Sri Lanka Promotions
BEGIN:VEVENT
DTSTART:20240313T000000
DTEND:20240318T235900
DTSTAMP:20260422T180627
CREATED:20240313T102519
LAST-MODIFIED:20240313T102519
UID:10452@http://srilanka-promotions.com
SUMMARY:Namecheap offering US$1.48/mth web hosting with 20GB SSD, Wordpress and cPanel till 18 Mar 2024
DESCRIPTION:Get the best deals on all the web products you could want. For more information, visit [ http://srilanka-promotions.com/computers-accessories-software/namecheap-offering-us1-48-mth-web-hosting-with-20gb-ssd-wordpress-and-cpanel-till-18-mar-2024-10452/ ]. 
LOCATION:
URL:http://srilanka-promotions.com/computers-accessories-software/namecheap-offering-us1-48-mth-web-hosting-with-20gb-ssd-wordpress-and-cpanel-till-18-mar-2024-10452/
END:VEVENT
END:VCALENDAR