BEGIN:VCALENDAR
PRODID:-//Sri Lanka Promotions//NONSGML v1.0//EN
VERSION:2.0
CALSCALE:GREGORIAN
METHOD:PUBLISH
X-WR-CALNAME:Sri Lanka Promotions
X-ORIGINAL-URL:http://srilanka-promotions.com
X-WR-CALDESC:Events for Sri Lanka Promotions
BEGIN:VEVENT
DTSTART:20240315T000000
DTEND:20240416T235900
DTSTAMP:20260422T051958
CREATED:20240315T103200
LAST-MODIFIED:20240315T103200
UID:10460@http://srilanka-promotions.com
SUMMARY:Acronis offers up to 50% off Acronis Cyber Protect Home Office backup software till 16 Apr 2024
DESCRIPTION:Your data is more vulnerable than ever and it needs protection. For more information, visit [ http://srilanka-promotions.com/computers-accessories-software/acronis-offers-up-to-50-off-acronis-cyber-protect-home-office-backup-software-till-16-apr-2024-10460/ ]. 
LOCATION:
URL:http://srilanka-promotions.com/computers-accessories-software/acronis-offers-up-to-50-off-acronis-cyber-protect-home-office-backup-software-till-16-apr-2024-10460/
END:VEVENT
END:VCALENDAR