BEGIN:VCALENDAR
PRODID:-//Sri Lanka Promotions//NONSGML v1.0//EN
VERSION:2.0
CALSCALE:GREGORIAN
METHOD:PUBLISH
X-WR-CALNAME:Sri Lanka Promotions
X-ORIGINAL-URL:http://srilanka-promotions.com
X-WR-CALDESC:Events for Sri Lanka Promotions
BEGIN:VEVENT
DTSTART:20240321T000000
DTEND:20240612T235900
DTSTAMP:20260422T180629
CREATED:20240404T145811
LAST-MODIFIED:20240404T145811
UID:10524@http://srilanka-promotions.com
SUMMARY:NordVPN offering up to 69% off VPN services annual plans plus 3 months free till 12 June 2024
DESCRIPTION:Step into a more private internet. For more information, visit [ http://srilanka-promotions.com/computers-accessories-software/nordvpn-offering-up-to-69-off-vpn-services-annual-plans-plus-3-months-free-till-12-june-2024-10524/ ]. 
LOCATION:
URL:http://srilanka-promotions.com/computers-accessories-software/nordvpn-offering-up-to-69-off-vpn-services-annual-plans-plus-3-months-free-till-12-june-2024-10524/
END:VEVENT
END:VCALENDAR