BEGIN:VCALENDAR
PRODID:-//Sri Lanka Promotions//NONSGML v1.0//EN
VERSION:2.0
CALSCALE:GREGORIAN
METHOD:PUBLISH
X-WR-CALNAME:Sri Lanka Promotions
X-ORIGINAL-URL:http://srilanka-promotions.com
X-WR-CALDESC:Events for Sri Lanka Promotions
BEGIN:VEVENT
DTSTART:20240424T000000
DTEND:20240430T235900
DTSTAMP:20260422T181037
CREATED:20240424T182423
LAST-MODIFIED:20240424T182423
UID:10593@http://srilanka-promotions.com
SUMMARY:Namecheap Has US$1.32/mth Stellar Web Hosting with 20GB SSD, Wordpress and cPanel till 30 April 2024
DESCRIPTION:Exclusive web hosting offer with WordPress and cPanel by Namecheap until 30 April. For more information, visit [ http://srilanka-promotions.com/computers-accessories-software/namecheap-has-us1-32-mth-stellar-web-hosting-with-20gb-ssd-wordpress-and-cpanel-till-30-april-2024-10593/ ]. 
LOCATION:
URL:http://srilanka-promotions.com/computers-accessories-software/namecheap-has-us1-32-mth-stellar-web-hosting-with-20gb-ssd-wordpress-and-cpanel-till-30-april-2024-10593/
END:VEVENT
END:VCALENDAR