BEGIN:VCALENDAR
PRODID:-//Sri Lanka Promotions//NONSGML v1.0//EN
VERSION:2.0
CALSCALE:GREGORIAN
METHOD:PUBLISH
X-WR-CALNAME:Sri Lanka Promotions
X-ORIGINAL-URL:http://srilanka-promotions.com
X-WR-CALDESC:Events for Sri Lanka Promotions
BEGIN:VEVENT
DTSTART:20240216T000000
DTEND:20250331T235900
DTSTAMP:20260421T192957
CREATED:20240401T231932
LAST-MODIFIED:20240907T155646
UID:10617@http://srilanka-promotions.com
SUMMARY:Qatar Airways Mastercard Holders Get Up to 10% Off With This Promo Code Valid Till 31 March 2025
DESCRIPTION:Up to 10% off on Qatar Airways Flights for Mastercard Users. For more information, visit [ http://srilanka-promotions.com/airlines-flights/qatar-airways-mastercard-holders-get-up-to-10-off-with-this-promo-code-valid-till-31-august-2024-10617/ ]. 
LOCATION:
URL:http://srilanka-promotions.com/airlines-flights/qatar-airways-mastercard-holders-get-up-to-10-off-with-this-promo-code-valid-till-31-august-2024-10617/
END:VEVENT
END:VCALENDAR