BEGIN:VCALENDAR
PRODID:-//Sri Lanka Promotions//NONSGML v1.0//EN
VERSION:2.0
CALSCALE:GREGORIAN
METHOD:PUBLISH
X-WR-CALNAME:Sri Lanka Promotions
X-ORIGINAL-URL:http://srilanka-promotions.com
X-WR-CALDESC:Events for Sri Lanka Promotions
BEGIN:VEVENT
DTSTART:20240601T000000
DTEND:20240630T235900
DTSTAMP:20260421T104712
CREATED:20240601T121411
LAST-MODIFIED:20240601T121411
UID:10722@http://srilanka-promotions.com
SUMMARY:Abans offers up to Rs.139,991 off LG and Abans Air Conditioners till 30 June 2024
DESCRIPTION:Beat the heat. For more information, visit [ http://srilanka-promotions.com/home-appliances/abans-offers-up-to-rs-139991-off-lg-and-abans-air-conditioners-till-30-june-2024-10722/ ]. 
LOCATION:
URL:http://srilanka-promotions.com/home-appliances/abans-offers-up-to-rs-139991-off-lg-and-abans-air-conditioners-till-30-june-2024-10722/
END:VEVENT
END:VCALENDAR