BEGIN:VCALENDAR
PRODID:-//Sri Lanka Promotions//NONSGML v1.0//EN
VERSION:2.0
CALSCALE:GREGORIAN
METHOD:PUBLISH
X-WR-CALNAME:Sri Lanka Promotions
X-ORIGINAL-URL:http://srilanka-promotions.com
X-WR-CALDESC:Events for Sri Lanka Promotions
BEGIN:VEVENT
DTSTART:20240807T000000
DTEND:20241016T235900
DTSTAMP:20260422T180852
CREATED:20240807T184412
LAST-MODIFIED:20240807T184412
UID:10991@http://srilanka-promotions.com
SUMMARY:NordVPN offering up to 72% off VPN services annual plans plus 3 months free till 16 October 2024
DESCRIPTION:Step into a more private internet. For more information, visit [ http://srilanka-promotions.com/computers-accessories-software/nordvpn-offering-up-to-72-off-vpn-services-annual-plans-plus-3-months-free-till-16-october-2024-10991/ ]. 
LOCATION:
URL:http://srilanka-promotions.com/computers-accessories-software/nordvpn-offering-up-to-72-off-vpn-services-annual-plans-plus-3-months-free-till-16-october-2024-10991/
END:VEVENT
END:VCALENDAR