BEGIN:VCALENDAR
PRODID:-//Sri Lanka Promotions//NONSGML v1.0//EN
VERSION:2.0
CALSCALE:GREGORIAN
METHOD:PUBLISH
X-WR-CALNAME:Sri Lanka Promotions
X-ORIGINAL-URL:http://srilanka-promotions.com
X-WR-CALDESC:Events for Sri Lanka Promotions
BEGIN:VEVENT
DTSTART:20241120T000000
DTEND:20241212T235900
DTSTAMP:20260419T231013
CREATED:20241119T171916
LAST-MODIFIED:20241119T171916
UID:11282@http://srilanka-promotions.com
SUMMARY:Parallels Offers 25% Off All Desktop Products Until 12 Dec 2024
DESCRIPTION:Save on Parallels software and enhance your Mac with the latest AI-powered tools.. For more information, visit [ http://srilanka-promotions.com/computers-accessories-software/parallels-offers-25-off-all-desktop-products-until-12-dec-2024-11282/ ]. 
LOCATION:
URL:http://srilanka-promotions.com/computers-accessories-software/parallels-offers-25-off-all-desktop-products-until-12-dec-2024-11282/
END:VEVENT
END:VCALENDAR