BEGIN:VCALENDAR
PRODID:-//Sri Lanka Promotions//NONSGML v1.0//EN
VERSION:2.0
CALSCALE:GREGORIAN
METHOD:PUBLISH
X-WR-CALNAME:Sri Lanka Promotions
X-ORIGINAL-URL:http://srilanka-promotions.com
X-WR-CALDESC:Events for Sri Lanka Promotions
BEGIN:VEVENT
DTSTART:20241219T000000
DTEND:20250109T235900
DTSTAMP:20260419T131638
CREATED:20241219T165251
LAST-MODIFIED:20241219T165251
UID:11346@http://srilanka-promotions.com
SUMMARY:Acronis offers up to 50% off True Image (backup, disk cloning, cyber protection and more) till 9 Jan 2025
DESCRIPTION:Leave nothing to chance. For more information, visit [ http://srilanka-promotions.com/computers-accessories-software/acronis-offers-up-to-50-off-true-image-backup-disk-cloning-cyber-protection-and-more-till-9-jan-2025-11346/ ]. 
LOCATION:
URL:http://srilanka-promotions.com/computers-accessories-software/acronis-offers-up-to-50-off-true-image-backup-disk-cloning-cyber-protection-and-more-till-9-jan-2025-11346/
END:VEVENT
END:VCALENDAR