BEGIN:VCALENDAR
PRODID:-//Sri Lanka Promotions//NONSGML v1.0//EN
VERSION:2.0
CALSCALE:GREGORIAN
METHOD:PUBLISH
X-WR-CALNAME:Sri Lanka Promotions
X-ORIGINAL-URL:http://srilanka-promotions.com
X-WR-CALDESC:Events for Sri Lanka Promotions
BEGIN:VEVENT
DTSTART:20250806T000000
DTEND:20250806T235900
DTSTAMP:20260419T131318
CREATED:20250806T164809
LAST-MODIFIED:20250806T164809
UID:11925@http://srilanka-promotions.com
SUMMARY:Burger King SL Turns Up the Heat on 6 Aug with BOGO Fiery Chicken Burger Fiesta
DESCRIPTION:Savour double the fiery flavour with Burger King's hot BOGO burger bonanza. For more information, visit [ http://srilanka-promotions.com/dining-restaurants-food/burger-king-sl-turns-up-the-heat-on-6-aug-with-bogo-fiery-chicken-burger-fiesta-11925/ ]. 
LOCATION:
URL:http://srilanka-promotions.com/dining-restaurants-food/burger-king-sl-turns-up-the-heat-on-6-aug-with-bogo-fiery-chicken-burger-fiesta-11925/
END:VEVENT
END:VCALENDAR