BEGIN:VCALENDAR
PRODID:-//Sri Lanka Promotions//NONSGML v1.0//EN
VERSION:2.0
CALSCALE:GREGORIAN
METHOD:PUBLISH
X-WR-CALNAME:Sri Lanka Promotions
X-ORIGINAL-URL:http://srilanka-promotions.com
X-WR-CALDESC:Events for Sri Lanka Promotions
BEGIN:VEVENT
DTSTART:20250808T000000
DTEND:20250808T235900
DTSTAMP:20260419T131021
CREATED:20250808T155707
LAST-MODIFIED:20250808T155707
UID:11928@http://srilanka-promotions.com
SUMMARY:KFC Sri Lanka's BOGO Deal Delivers Double Buckets This Friday Only - 8 August 2025
DESCRIPTION:Double the delight with KFC Sri Lanka's 6pc & 8pc chicken buckets - buy one, get one free on Friday. For more information, visit [ http://srilanka-promotions.com/dining-restaurants-food/kfc-sri-lankas-bogo-deal-delivers-double-buckets-this-friday-only-8-august-2025-11928/ ]. 
LOCATION:
URL:http://srilanka-promotions.com/dining-restaurants-food/kfc-sri-lankas-bogo-deal-delivers-double-buckets-this-friday-only-8-august-2025-11928/
END:VEVENT
END:VCALENDAR