BEGIN:VCALENDAR
PRODID:-//Sri Lanka Promotions//NONSGML v1.0//EN
VERSION:2.0
CALSCALE:GREGORIAN
METHOD:PUBLISH
X-WR-CALNAME:Sri Lanka Promotions
X-ORIGINAL-URL:http://srilanka-promotions.com
X-WR-CALDESC:Events for Sri Lanka Promotions
BEGIN:VEVENT
DTSTART:20250813T000000
DTEND:20250813T235900
DTSTAMP:20260419T131057
CREATED:20250813T120023
LAST-MODIFIED:20250813T120023
UID:11942@http://srilanka-promotions.com
SUMMARY:Burger King SL's Spicy Chicken BOGO Fiesta on 13 Aug 2025 - Double the Heat, Double the Fun
DESCRIPTION:Enjoy fiery savings with Burger King's one-day spicy chicken burger BOGO deal. For more information, visit [ http://srilanka-promotions.com/dining-restaurants-food/burger-king-sls-spicy-chicken-bogo-fiesta-on-13-aug-2025-double-the-heat-double-the-fun-11942/ ]. 
LOCATION:
URL:http://srilanka-promotions.com/dining-restaurants-food/burger-king-sls-spicy-chicken-bogo-fiesta-on-13-aug-2025-double-the-heat-double-the-fun-11942/
END:VEVENT
END:VCALENDAR