BEGIN:VCALENDAR
PRODID:-//Sri Lanka Promotions//NONSGML v1.0//EN
VERSION:2.0
CALSCALE:GREGORIAN
METHOD:PUBLISH
X-WR-CALNAME:Sri Lanka Promotions
X-ORIGINAL-URL:http://srilanka-promotions.com
X-WR-CALDESC:Events for Sri Lanka Promotions
BEGIN:VEVENT
DTSTART:20250820T000000
DTEND:20250820T235900
DTSTAMP:20260419T115808
CREATED:20250820T144153
LAST-MODIFIED:20250820T144216
UID:11963@http://srilanka-promotions.com
SUMMARY:Burger King Sri Lanka's Spicy Chicken BOGO on 20 Aug 2025
DESCRIPTION:Fiery taste and double the value. For more information, visit [ http://srilanka-promotions.com/dining-restaurants-food/burger-king-sri-lankas-spicy-chicken-bogo-on-20-aug-2025-11963/ ]. 
LOCATION:
URL:http://srilanka-promotions.com/dining-restaurants-food/burger-king-sri-lankas-spicy-chicken-bogo-on-20-aug-2025-11963/
END:VEVENT
END:VCALENDAR