BEGIN:VCALENDAR
PRODID:-//Sri Lanka Promotions//NONSGML v1.0//EN
VERSION:2.0
CALSCALE:GREGORIAN
METHOD:PUBLISH
X-WR-CALNAME:Sri Lanka Promotions
X-ORIGINAL-URL:http://srilanka-promotions.com
X-WR-CALDESC:Events for Sri Lanka Promotions
BEGIN:VEVENT
DTSTART:20250822T000000
DTEND:20250822T235900
DTSTAMP:20260419T120432
CREATED:20250822T110746
LAST-MODIFIED:20250822T111119
UID:11971@http://srilanka-promotions.com
SUMMARY:KFC Sri Lanka 6pc/8pc Double Bucket BOGO - One-Day Feast on 22 Aug 2025
DESCRIPTION:Grab a double bucket feast with KFC Sri Lanka's BOGO deal. For more information, visit [ http://srilanka-promotions.com/dining-restaurants-food/kfc-sri-lanka-6pc-8pc-double-bucket-bogo-one-day-feast-on-22-aug-2025-11971/ ]. 
LOCATION:
URL:http://srilanka-promotions.com/dining-restaurants-food/kfc-sri-lanka-6pc-8pc-double-bucket-bogo-one-day-feast-on-22-aug-2025-11971/
END:VEVENT
END:VCALENDAR