BEGIN:VCALENDAR
PRODID:-//Sri Lanka Promotions//NONSGML v1.0//EN
VERSION:2.0
CALSCALE:GREGORIAN
METHOD:PUBLISH
X-WR-CALNAME:Sri Lanka Promotions
X-ORIGINAL-URL:http://srilanka-promotions.com
X-WR-CALDESC:Events for Sri Lanka Promotions
BEGIN:VEVENT
DTSTART:20250922T000000
DTEND:20250922T235900
DTSTAMP:20260419T120138
CREATED:20250922T113608
LAST-MODIFIED:20250922T114413
UID:12143@http://srilanka-promotions.com
SUMMARY:KFC Sri Lanka Has 1-FOR-1 6pc Chicken Buckets on 22 Sep 2025
DESCRIPTION:Double the taste with KFC Sri Lanka's one-day BOGO chicken bucket deal. For more information, visit [ http://srilanka-promotions.com/dining-restaurants-food/kfc-sri-lanka-has-1-for-1-6pc-chicken-buckets-on-22-sep-2025-12143/ ]. 
LOCATION:
URL:http://srilanka-promotions.com/dining-restaurants-food/kfc-sri-lanka-has-1-for-1-6pc-chicken-buckets-on-22-sep-2025-12143/
END:VEVENT
END:VCALENDAR