BEGIN:VCALENDAR
PRODID:-//Sri Lanka Promotions//NONSGML v1.0//EN
VERSION:2.0
CALSCALE:GREGORIAN
METHOD:PUBLISH
X-WR-CALNAME:Sri Lanka Promotions
X-ORIGINAL-URL:http://srilanka-promotions.com
X-WR-CALDESC:Events for Sri Lanka Promotions
BEGIN:VEVENT
DTSTART:20250926T000000
DTEND:20250926T235900
DTSTAMP:20260419T115604
CREATED:20250926T113449
LAST-MODIFIED:20250926T113449
UID:12159@http://srilanka-promotions.com
SUMMARY:KFC Sri Lanka 1-FOR-1 6pc and 8pc Chicken Buckets on 26 Sep 2025
DESCRIPTION:Enjoy double the crunch. For more information, visit [ http://srilanka-promotions.com/dining-restaurants-food/kfc-sri-lanka-1-for-1-6pc-and-8pc-chicken-buckets-on-26-sep-2025-12159/ ]. 
LOCATION:
URL:http://srilanka-promotions.com/dining-restaurants-food/kfc-sri-lanka-1-for-1-6pc-and-8pc-chicken-buckets-on-26-sep-2025-12159/
END:VEVENT
END:VCALENDAR