BEGIN:VCALENDAR
PRODID:-//Sri Lanka Promotions//NONSGML v1.0//EN
VERSION:2.0
CALSCALE:GREGORIAN
METHOD:PUBLISH
X-WR-CALNAME:Sri Lanka Promotions
X-ORIGINAL-URL:http://srilanka-promotions.com
X-WR-CALDESC:Events for Sri Lanka Promotions
BEGIN:VEVENT
DTSTART:20250930T000000
DTEND:20250930T235900
DTSTAMP:20260419T115927
CREATED:20250930T122041
LAST-MODIFIED:20250930T122929
UID:12194@http://srilanka-promotions.com
SUMMARY:KFC Sri Lanka Has 1-FOR-1 Chicken Bucket Feast on 30 Sep 2025
DESCRIPTION:Grab two crispy KFC chicken buckets for the price of one. For more information, visit [ http://srilanka-promotions.com/dining-restaurants-food/kfc-sri-lanka-has-1-for-1-chicken-bucket-feast-on-30-sep-2025-12194/ ]. 
LOCATION:
URL:http://srilanka-promotions.com/dining-restaurants-food/kfc-sri-lanka-has-1-for-1-chicken-bucket-feast-on-30-sep-2025-12194/
END:VEVENT
END:VCALENDAR