BEGIN:VCALENDAR
PRODID:-//Sri Lanka Promotions//NONSGML v1.0//EN
VERSION:2.0
CALSCALE:GREGORIAN
METHOD:PUBLISH
X-WR-CALNAME:Sri Lanka Promotions
X-ORIGINAL-URL:http://srilanka-promotions.com
X-WR-CALDESC:Events for Sri Lanka Promotions
BEGIN:VEVENT
DTSTART:20251003T000000
DTEND:20251003T235900
DTSTAMP:20260419T120122
CREATED:20251003T111926
LAST-MODIFIED:20251003T111926
UID:12209@http://srilanka-promotions.com
SUMMARY:Burger King Sri Lanka Buy-1-Get-1-Free Big King Burgers at Rs. 1,750 each on 3 Oct 2025
DESCRIPTION:Enjoy 2 Big King burgers for the price of 1 this Friday at Burger King outlets across Sri Lanka. For more information, visit [ http://srilanka-promotions.com/dining-restaurants-food/burger-king-sri-lanka-buy-1-get-1-free-big-king-burgers-at-rs-1750-each-on-3-oct-2025-12209/ ]. 
LOCATION:
URL:http://srilanka-promotions.com/dining-restaurants-food/burger-king-sri-lanka-buy-1-get-1-free-big-king-burgers-at-rs-1750-each-on-3-oct-2025-12209/
END:VEVENT
END:VCALENDAR