BEGIN:VCALENDAR
PRODID:-//Sri Lanka Promotions//NONSGML v1.0//EN
VERSION:2.0
CALSCALE:GREGORIAN
METHOD:PUBLISH
X-WR-CALNAME:Sri Lanka Promotions
X-ORIGINAL-URL:http://srilanka-promotions.com
X-WR-CALDESC:Events for Sri Lanka Promotions
BEGIN:VEVENT
DTSTART:20251205T000000
DTEND:20251205T235900
DTSTAMP:20260423T212553
CREATED:20251205T105520
LAST-MODIFIED:20251205T105520
UID:12451@http://srilanka-promotions.com
SUMMARY:KFC Sri Lanka One-Day 1-for-1 6pc / 8pc Bucket Feast Returns on 5 Dec 2025
DESCRIPTION:Enjoy double the crunch with KFC Sri Lanka's one-day bucket feast offer. For more information, visit [ http://srilanka-promotions.com/dining-restaurants-food/kfc-sri-lanka-one-day-1-for-1-6pc-8pc-bucket-feast-returns-on-5-dec-2025-12451/ ]. 
LOCATION:
URL:http://srilanka-promotions.com/dining-restaurants-food/kfc-sri-lanka-one-day-1-for-1-6pc-8pc-bucket-feast-returns-on-5-dec-2025-12451/
END:VEVENT
END:VCALENDAR