BEGIN:VCALENDAR
PRODID:-//Sri Lanka Promotions//NONSGML v1.0//EN
VERSION:2.0
CALSCALE:GREGORIAN
METHOD:PUBLISH
X-WR-CALNAME:Sri Lanka Promotions
X-ORIGINAL-URL:http://srilanka-promotions.com
X-WR-CALDESC:Events for Sri Lanka Promotions
BEGIN:VEVENT
DTSTART:20251205T000000
DTEND:20251205T235900
DTSTAMP:20260420T064609
CREATED:20251205T133322
LAST-MODIFIED:20251205T133322
UID:12459@http://srilanka-promotions.com
SUMMARY:Burger King Sri Lanka 1-for-1 Big King Deal on 5 Dec 2025
DESCRIPTION:Grab a one-day-only 1-for-1 Big King treat across Sri Lanka. For more information, visit [ http://srilanka-promotions.com/dining-restaurants-food/burger-king-sri-lanka-1-for-1-big-king-deal-on-5-dec-2025-12459/ ]. 
LOCATION:
URL:http://srilanka-promotions.com/dining-restaurants-food/burger-king-sri-lanka-1-for-1-big-king-deal-on-5-dec-2025-12459/
END:VEVENT
END:VCALENDAR