BEGIN:VCALENDAR
PRODID:-//Sri Lanka Promotions//NONSGML v1.0//EN
VERSION:2.0
CALSCALE:GREGORIAN
METHOD:PUBLISH
X-WR-CALNAME:Sri Lanka Promotions
X-ORIGINAL-URL:http://srilanka-promotions.com
X-WR-CALDESC:Events for Sri Lanka Promotions
BEGIN:VEVENT
DTSTART:20251207T000000
DTEND:20251207T235900
DTSTAMP:20260423T212810
CREATED:20251207T130448
LAST-MODIFIED:20251207T130448
UID:12464@http://srilanka-promotions.com
SUMMARY:KFC Sri Lanka's one-day 8-piece Hot & Crispy bucket at Rs. 2990 on 7 Dec 2025
DESCRIPTION:Grab this Rs. 2990 one-day KFC bucket offer and enjoy big savings. For more information, visit [ http://srilanka-promotions.com/dining-restaurants-food/kfc-sri-lankas-one-day-8-piece-hot-crispy-bucket-at-rs-2990-on-7-dec-2025-12464/ ]. 
LOCATION:
URL:http://srilanka-promotions.com/dining-restaurants-food/kfc-sri-lankas-one-day-8-piece-hot-crispy-bucket-at-rs-2990-on-7-dec-2025-12464/
END:VEVENT
END:VCALENDAR