BEGIN:VCALENDAR
PRODID:-//Sri Lanka Promotions//NONSGML v1.0//EN
VERSION:2.0
CALSCALE:GREGORIAN
METHOD:PUBLISH
X-WR-CALNAME:Sri Lanka Promotions
X-ORIGINAL-URL:http://srilanka-promotions.com
X-WR-CALDESC:Events for Sri Lanka Promotions
BEGIN:VEVENT
DTSTART:20120525T000000
DTEND:20120601T235900
DTSTAMP:20260421T224004
CREATED:20120526T174401
LAST-MODIFIED:20120526T174401
UID:133@http://srilanka-promotions.com
SUMMARY:SriLankan Airlines Chennai Air Fare Promotion 26 May - 1 Jun 2012
DESCRIPTION:SriLankan Airlines is offering a special promotion to Chennai till 1 June 2012. Valid for travel from 26 June to 28 December 2012. . For more information, visit [ http://srilanka-promotions.com/airlines-flights/srilankan-airlines-chennai-air-fare-promotion-26-may-1-jun-2012-133/ ]. 
LOCATION:
URL:http://srilanka-promotions.com/airlines-flights/srilankan-airlines-chennai-air-fare-promotion-26-may-1-jun-2012-133/
END:VEVENT
END:VCALENDAR