BEGIN:VCALENDAR
PRODID:-//Sri Lanka Promotions//NONSGML v1.0//EN
VERSION:2.0
CALSCALE:GREGORIAN
METHOD:PUBLISH
X-WR-CALNAME:Sri Lanka Promotions
X-ORIGINAL-URL:http://srilanka-promotions.com
X-WR-CALDESC:Events for Sri Lanka Promotions
BEGIN:VEVENT
DTSTART:20120804T000000
DTEND:20120810T235900
DTSTAMP:20260421T225709
CREATED:20120805T000419
LAST-MODIFIED:20120810T232431
UID:1728@http://srilanka-promotions.com
SUMMARY:SriLankan Airlines Tokyo Japan Promotion Air Fares 4 - 10 Aug 2012
DESCRIPTION:SriLankan Airlines is offering a special promotion to Tokyo (Japan) till 10 August 2012. Valid for travel from 4 September to 4 March 2012. For more information, visit [ http://srilanka-promotions.com/airlines-flights/srilankan-airlines-tokyo-japan-promotion-air-fares-4-10-aug-2012-1728/ ]. 
LOCATION:
URL:http://srilanka-promotions.com/airlines-flights/srilankan-airlines-tokyo-japan-promotion-air-fares-4-10-aug-2012-1728/
END:VEVENT
END:VCALENDAR