BEGIN:VCALENDAR
PRODID:-//Sri Lanka Promotions//NONSGML v1.0//EN
VERSION:2.0
CALSCALE:GREGORIAN
METHOD:PUBLISH
X-WR-CALNAME:Sri Lanka Promotions
X-ORIGINAL-URL:http://srilanka-promotions.com
X-WR-CALDESC:Events for Sri Lanka Promotions
BEGIN:VEVENT
DTSTART:20120816T000000
DTEND:20121015T235900
DTSTAMP:20260421T225543
CREATED:20120816T180209
LAST-MODIFIED:20121015T225734
UID:2143@http://srilanka-promotions.com
SUMMARY:SriLankan Airlines 15% OFF Promotion For Visa Credit/Debit Cardmembers 16 Aug - 15 Oct 2012
DESCRIPTION:SriLankan Airlines is having a 15% OFF promotion for Visa Credit and Debit cardmembers till 15 October 2012. The card must be issued in Sri Lanka in order to be valid for the promotion.. For more information, visit [ http://srilanka-promotions.com/credit-cards-loans/srilankan-airlines-15-off-promotion-for-visa-creditdebit-cardmembers-16-aug-15-oct-2012-2143/ ]. 
LOCATION:
URL:http://srilanka-promotions.com/credit-cards-loans/srilankan-airlines-15-off-promotion-for-visa-creditdebit-cardmembers-16-aug-15-oct-2012-2143/
END:VEVENT
END:VCALENDAR