BEGIN:VCALENDAR
PRODID:-//Sri Lanka Promotions//NONSGML v1.0//EN
VERSION:2.0
CALSCALE:GREGORIAN
METHOD:PUBLISH
X-WR-CALNAME:Sri Lanka Promotions
X-ORIGINAL-URL:http://srilanka-promotions.com
X-WR-CALDESC:Events for Sri Lanka Promotions
BEGIN:VEVENT
DTSTART:20120818T000000
DTEND:20120824T235900
DTSTAMP:20260421T225509
CREATED:20120822T200941
LAST-MODIFIED:20120822T200941
UID:2279@http://srilanka-promotions.com
SUMMARY:SriLankan Airlines Kuala Lumpur Promotion Air Fares 18 - 24 Aug 2012
DESCRIPTION:SriLankan Airlines is offering a special promotion to Kuala Lumpur from 18 August till 24 August 2012. Valid for travel from 18 September to 18 March 2013. For more information, visit [ http://srilanka-promotions.com/airlines-flights/srilankan-airlines-kuala-lumpur-promotion-air-fares-18-24-aug-2012-2279/ ]. 
LOCATION:
URL:http://srilanka-promotions.com/airlines-flights/srilankan-airlines-kuala-lumpur-promotion-air-fares-18-24-aug-2012-2279/
END:VEVENT
END:VCALENDAR