BEGIN:VCALENDAR
PRODID:-//Sri Lanka Promotions//NONSGML v1.0//EN
VERSION:2.0
CALSCALE:GREGORIAN
METHOD:PUBLISH
X-WR-CALNAME:Sri Lanka Promotions
X-ORIGINAL-URL:http://srilanka-promotions.com
X-WR-CALDESC:Events for Sri Lanka Promotions
BEGIN:VEVENT
DTSTART:20120609T000000
DTEND:20120615T235900
DTSTAMP:20260421T224729
CREATED:20120610T215947
LAST-MODIFIED:20120610T215947
UID:381@http://srilanka-promotions.com
SUMMARY:SriLankan Airlines Kuala Lumpur Fare Promotion 9 - 15 Jun 2012
DESCRIPTION:SriLankan Airlines is having a new HotSeats Destination of the Week promotion to Kuala Lumpur, Malaysia. Enjoy fares for Rs 29,300 when you book from 9 June to 15 June 2012, for travel from 9 July to 9 January 2013. For more information, visit [ http://srilanka-promotions.com/airlines-flights/srilankan-airlines-kuala-lumpur-fare-promotion-9-15-jun-2012-381/ ]. 
LOCATION:
URL:http://srilanka-promotions.com/airlines-flights/srilankan-airlines-kuala-lumpur-fare-promotion-9-15-jun-2012-381/
END:VEVENT
END:VCALENDAR