BEGIN:VCALENDAR
PRODID:-//Sri Lanka Promotions//NONSGML v1.0//EN
VERSION:2.0
CALSCALE:GREGORIAN
METHOD:PUBLISH
X-WR-CALNAME:Sri Lanka Promotions
X-ORIGINAL-URL:http://srilanka-promotions.com
X-WR-CALDESC:Events for Sri Lanka Promotions
BEGIN:VEVENT
DTSTART:20121120T000000
DTEND:20121130T235900
DTSTAMP:20260421T235427
CREATED:20121123T234508
LAST-MODIFIED:20121123T234937
UID:4358@http://srilanka-promotions.com
SUMMARY:SriLankan Airlines Maldives Promotion Air Fares 20 - 30 Nov 2012
DESCRIPTION:This coming holiday season, break away from the busy schedule and step into a wonder world draped in vibrant hues of the sea, sun and sand for a dream like tropical experience!. For more information, visit [ http://srilanka-promotions.com/airlines-flights/srilankan-airlines-maldives-promotion-air-fares-20-30-nov-2012-4358/ ]. 
LOCATION:
URL:http://srilanka-promotions.com/airlines-flights/srilankan-airlines-maldives-promotion-air-fares-20-30-nov-2012-4358/
END:VEVENT
END:VCALENDAR