BEGIN:VCALENDAR
PRODID:-//Sri Lanka Promotions//NONSGML v1.0//EN
VERSION:2.0
CALSCALE:GREGORIAN
METHOD:PUBLISH
X-WR-CALNAME:Sri Lanka Promotions
X-ORIGINAL-URL:http://srilanka-promotions.com
X-WR-CALDESC:Events for Sri Lanka Promotions
BEGIN:VEVENT
DTSTART:20130120T000000
DTEND:20130130T235900
DTSTAMP:20260421T235817
CREATED:20130122T123020
LAST-MODIFIED:20130122T123028
UID:4971@http://srilanka-promotions.com
SUMMARY:SriLankan Airlines Bangalore Air Fares Promotion 20 - 30 Jan 2013
DESCRIPTION:SriLankan Airlines is offering you a special discount for every Economy Class Booking to Bangalore, made online between 20th – 30th January, 2013. . For more information, visit [ http://srilanka-promotions.com/airlines-flights/srilankan-airlines-bangalore-air-fares-promotion-20-30-jan-2013-4971/ ]. 
LOCATION:
URL:http://srilanka-promotions.com/airlines-flights/srilankan-airlines-bangalore-air-fares-promotion-20-30-jan-2013-4971/
END:VEVENT
END:VCALENDAR