BEGIN:VCALENDAR
PRODID:-//Sri Lanka Promotions//NONSGML v1.0//EN
VERSION:2.0
CALSCALE:GREGORIAN
METHOD:PUBLISH
X-WR-CALNAME:Sri Lanka Promotions
X-ORIGINAL-URL:http://srilanka-promotions.com
X-WR-CALDESC:Events for Sri Lanka Promotions
BEGIN:VEVENT
DTSTART:20130611T000000
DTEND:20130626T235900
DTSTAMP:20260422T172544
CREATED:20130611T134646
LAST-MODIFIED:20130611T002612
UID:5631@http://srilanka-promotions.com
SUMMARY:Bitdefender Up To 69% Off Coupon Code For Total Security, Antivirus Plus Or Internet Security 11 - 26 Jun 2013
DESCRIPTION:Bitdefender is having a limited offer with up to 69% off for Bitdefender Antivirus Plus 2013, Bitdefender Internet Security 2013 and Bitdefender Total Security 2013 with the coupon code below. For more information, visit [ http://srilanka-promotions.com/computers-accessories-software/bitdefender-up-to-69-off-coupon-code-for-total-security-antivirus-plus-or-internet-security-11-26-jun-2013-5631/ ]. 
LOCATION:
URL:http://srilanka-promotions.com/computers-accessories-software/bitdefender-up-to-69-off-coupon-code-for-total-security-antivirus-plus-or-internet-security-11-26-jun-2013-5631/
END:VEVENT
END:VCALENDAR