BEGIN:VCALENDAR
PRODID:-//Sri Lanka Promotions//NONSGML v1.0//EN
VERSION:2.0
CALSCALE:GREGORIAN
METHOD:PUBLISH
X-WR-CALNAME:Sri Lanka Promotions
X-ORIGINAL-URL:http://srilanka-promotions.com
X-WR-CALDESC:Events for Sri Lanka Promotions
BEGIN:VEVENT
DTSTART:20130720T000000
DTEND:20130731T235900
DTSTAMP:20260421T223553
CREATED:20130720T135601
LAST-MODIFIED:20130720T190324
UID:5789@http://srilanka-promotions.com
SUMMARY:SriLankan Airlines Bangalore Air Fares Promotion 20 Jul - 31 Oct 2013
DESCRIPTION:Escape to the "Garden City" with your loved ones this season. Enjoy cricket, shopping, cuisine, culture and heritage all in one place with this times "Destination of the Month city – Bangalore!". For more information, visit [ http://srilanka-promotions.com/airlines-flights/srilankan-airlines-bangalore-air-fares-promotion-20-jul-31-oct-2013-5789/ ]. 
LOCATION:
URL:http://srilanka-promotions.com/airlines-flights/srilankan-airlines-bangalore-air-fares-promotion-20-jul-31-oct-2013-5789/
END:VEVENT
END:VCALENDAR