BEGIN:VCALENDAR
PRODID:-//Sri Lanka Promotions//NONSGML v1.0//EN
VERSION:2.0
CALSCALE:GREGORIAN
METHOD:PUBLISH
X-WR-CALNAME:Sri Lanka Promotions
X-ORIGINAL-URL:http://srilanka-promotions.com
X-WR-CALDESC:Events for Sri Lanka Promotions
BEGIN:VEVENT
DTSTART:20120616T000000
DTEND:20120622T235900
DTSTAMP:20260422T000055
CREATED:20120617T213201
LAST-MODIFIED:20120623T153014
UID:586@http://srilanka-promotions.com
SUMMARY:SriLankan Airlines Chennai Air Fare Promotion 16 - 22 Jun 2012
DESCRIPTION:SriLankan Airlines is offering a special promotion to Chennai till 22 June 2012. Valid for travel from 16 July to 16 January 2012. . For more information, visit [ http://srilanka-promotions.com/airlines-flights/srilankan-airlines-chennai-air-fare-promotion-16-22-jun-2012-586/ ]. 
LOCATION:
URL:http://srilanka-promotions.com/airlines-flights/srilankan-airlines-chennai-air-fare-promotion-16-22-jun-2012-586/
END:VEVENT
END:VCALENDAR