BEGIN:VCALENDAR
PRODID:-//Sri Lanka Promotions//NONSGML v1.0//EN
VERSION:2.0
CALSCALE:GREGORIAN
METHOD:PUBLISH
X-WR-CALNAME:Sri Lanka Promotions
X-ORIGINAL-URL:http://srilanka-promotions.com
X-WR-CALDESC:Events for Sri Lanka Promotions
BEGIN:VEVENT
DTSTART:20131009T000000
DTEND:20131106T235900
DTSTAMP:20260421T223635
CREATED:20131009T112659
LAST-MODIFIED:20131123T031214
UID:6140@http://srilanka-promotions.com
SUMMARY:Qatar Airways Business Class Tickets Buy 1 Get 1 FREE Promo 9 Oct - 6 Nov 2013
DESCRIPTION:Buy one Business Class ticket and get the second one free for a limited time with Qatar Airways's latest promotion . For more information, visit [ http://srilanka-promotions.com/airlines-flights/qatar-airways-business-class-tickets-buy-1-get-1-free-promo-9-oct-6-nov-2013-6140/ ]. 
LOCATION:
URL:http://srilanka-promotions.com/airlines-flights/qatar-airways-business-class-tickets-buy-1-get-1-free-promo-9-oct-6-nov-2013-6140/
END:VEVENT
END:VCALENDAR