BEGIN:VCALENDAR
PRODID:-//Sri Lanka Promotions//NONSGML v1.0//EN
VERSION:2.0
CALSCALE:GREGORIAN
METHOD:PUBLISH
X-WR-CALNAME:Sri Lanka Promotions
X-ORIGINAL-URL:http://srilanka-promotions.com
X-WR-CALDESC:Events for Sri Lanka Promotions
BEGIN:VEVENT
DTSTART:20140117T000000
DTEND:20140119T235900
DTSTAMP:20260421T223821
CREATED:20140114T150007
LAST-MODIFIED:20140114T150347
UID:6451@http://srilanka-promotions.com
SUMMARY:SriLankan Airlines 30% Off & 40Kg Baggage Allowance Promo @ BMICH 17 - 19 Jan 2014
DESCRIPTION:SriLankan Airlines is the official carrier of EDEX Expo 2014 and is offering a special promotion at the event. For more information, visit [ http://srilanka-promotions.com/airlines-flights/srilankan-airlines-30-off-40kg-baggage-allowance-promo-bmich-17-19-jan-2014-6451/ ]. 
LOCATION:
URL:http://srilanka-promotions.com/airlines-flights/srilankan-airlines-30-off-40kg-baggage-allowance-promo-bmich-17-19-jan-2014-6451/
END:VEVENT
END:VCALENDAR