BEGIN:VCALENDAR
PRODID:-//Sri Lanka Promotions//NONSGML v1.0//EN
VERSION:2.0
CALSCALE:GREGORIAN
METHOD:PUBLISH
X-WR-CALNAME:Sri Lanka Promotions
X-ORIGINAL-URL:http://srilanka-promotions.com
X-WR-CALDESC:Events for Sri Lanka Promotions
BEGIN:VEVENT
DTSTART:20141118T000000
DTEND:20141203T235900
DTSTAMP:20260425T121406
CREATED:20141118T125819
LAST-MODIFIED:20141118T140255
UID:7508@http://srilanka-promotions.com
SUMMARY:Cyberlink 50% OFF Black Friday Sale 18 Nov - 3 Dec 2014
DESCRIPTION:Black Friday is coming. Enjoy crazy savings of up to 50% in the CyberLink store. For more information, visit [ http://srilanka-promotions.com/computers-accessories-software/cyberlink-50-off-black-friday-sale-18-nov-3-dec-2014-7508/ ]. 
LOCATION:
URL:http://srilanka-promotions.com/computers-accessories-software/cyberlink-50-off-black-friday-sale-18-nov-3-dec-2014-7508/
END:VEVENT
END:VCALENDAR