BEGIN:VCALENDAR
PRODID:-//Sri Lanka Promotions//NONSGML v1.0//EN
VERSION:2.0
CALSCALE:GREGORIAN
METHOD:PUBLISH
X-WR-CALNAME:Sri Lanka Promotions
X-ORIGINAL-URL:http://srilanka-promotions.com
X-WR-CALDESC:Events for Sri Lanka Promotions
BEGIN:VEVENT
DTSTART:20141118T000000
DTEND:20141130T235900
DTSTAMP:20260419T151750
CREATED:20141118T115818
LAST-MODIFIED:20141118T140237
UID:7514@http://srilanka-promotions.com
SUMMARY:FlowerAdvisor 10% OFF Storewide Coupon Code 18 - 30 Nov 2014
DESCRIPTION:Get 10% OFF at FlowerAdvisor valid for a limited time only. For more information, visit [ http://srilanka-promotions.com/gifts-presents-hampers/floweradvisor-10-off-storewide-coupon-code-18-30-nov-2014-7514/ ]. 
LOCATION:
URL:http://srilanka-promotions.com/gifts-presents-hampers/floweradvisor-10-off-storewide-coupon-code-18-30-nov-2014-7514/
END:VEVENT
END:VCALENDAR