BEGIN:VCALENDAR
PRODID:-//Sri Lanka Promotions//NONSGML v1.0//EN
VERSION:2.0
CALSCALE:GREGORIAN
METHOD:PUBLISH
X-WR-CALNAME:Sri Lanka Promotions
X-ORIGINAL-URL:http://srilanka-promotions.com
X-WR-CALDESC:Events for Sri Lanka Promotions
BEGIN:VEVENT
DTSTART:20141122T000000
DTEND:20141130T235900
DTSTAMP:20260419T133113
CREATED:20141127T233708
LAST-MODIFIED:20141127T225526
UID:7541@http://srilanka-promotions.com
SUMMARY:Cyberlink Up To 60% OFF Black Friday Sale 22 - 30 Nov 2014
DESCRIPTION:Get up to 60% PowerDVD 14, and the new Director Family Products, Director Suite 3, PowerDirector 13 and PhotoDirector. For more information, visit [ http://srilanka-promotions.com/computers-accessories-software/cyberlink-up-to-60-off-black-friday-sale-22-30-nov-2014-7541/ ]. 
LOCATION:
URL:http://srilanka-promotions.com/computers-accessories-software/cyberlink-up-to-60-off-black-friday-sale-22-30-nov-2014-7541/
END:VEVENT
END:VCALENDAR