BEGIN:VCALENDAR
PRODID:-//Sri Lanka Promotions//NONSGML v1.0//EN
VERSION:2.0
CALSCALE:GREGORIAN
METHOD:PUBLISH
X-WR-CALNAME:Sri Lanka Promotions
X-ORIGINAL-URL:http://srilanka-promotions.com
X-WR-CALDESC:Events for Sri Lanka Promotions
BEGIN:VEVENT
DTSTART:20141128T000000
DTEND:20141130T235900
DTSTAMP:20260419T133308
CREATED:20141127T234127
LAST-MODIFIED:20141127T234127
UID:7574@http://srilanka-promotions.com
SUMMARY:AVG 40% Off Black Friday Promotion 28 - 30 Nov 2014
DESCRIPTION:Get 40% OFF AVG virus protection software. For more information, visit [ http://srilanka-promotions.com/computers-accessories-software/avg-40-off-black-friday-promotion-28-30-nov-2014-7574/ ]. 
LOCATION:
URL:http://srilanka-promotions.com/computers-accessories-software/avg-40-off-black-friday-promotion-28-30-nov-2014-7574/
END:VEVENT
END:VCALENDAR