BEGIN:VCALENDAR
PRODID:-//Sri Lanka Promotions//NONSGML v1.0//EN
VERSION:2.0
CALSCALE:GREGORIAN
METHOD:PUBLISH
X-WR-CALNAME:Sri Lanka Promotions
X-ORIGINAL-URL:http://srilanka-promotions.com
X-WR-CALDESC:Events for Sri Lanka Promotions
BEGIN:VEVENT
DTSTART:20141201T000000
DTEND:20141203T235900
DTSTAMP:20260426T042818
CREATED:20141127T234731
LAST-MODIFIED:20141127T234731
UID:7577@http://srilanka-promotions.com
SUMMARY:AVG 30% Off Cyber Monday Promotion 1 - 3 Dec 2014
DESCRIPTION:Get 30% OFF AVG virus protection software. For more information, visit [ http://srilanka-promotions.com/computers-accessories-software/avg-30-off-cyber-monday-promotion-1-3-dec-2014-7577/ ]. 
LOCATION:
URL:http://srilanka-promotions.com/computers-accessories-software/avg-30-off-cyber-monday-promotion-1-3-dec-2014-7577/
END:VEVENT
END:VCALENDAR