BEGIN:VCALENDAR
PRODID:-//Sri Lanka Promotions//NONSGML v1.0//EN
VERSION:2.0
CALSCALE:GREGORIAN
METHOD:PUBLISH
X-WR-CALNAME:Sri Lanka Promotions
X-ORIGINAL-URL:http://srilanka-promotions.com
X-WR-CALDESC:Events for Sri Lanka Promotions
BEGIN:VEVENT
DTSTART:20150210T000000
DTEND:20150331T235900
DTSTAMP:20260423T213444
CREATED:20150210T141903
LAST-MODIFIED:20150210T141903
UID:7873@http://srilanka-promotions.com
SUMMARY:CyberLink PowerDVD & Other Software 5% OFF Coupon Codes 10 Feb - 31 Mar 2015
DESCRIPTION:Get an extra 5% savings storewide by using the following coupon codes. For more information, visit [ http://srilanka-promotions.com/computers-accessories-software/cyberlink-powerdvd-other-software-5-off-coupon-codes-10-feb-31-mar-2015-7873/ ]. 
LOCATION:
URL:http://srilanka-promotions.com/computers-accessories-software/cyberlink-powerdvd-other-software-5-off-coupon-codes-10-feb-31-mar-2015-7873/
END:VEVENT
END:VCALENDAR