BEGIN:VCALENDAR
PRODID:-//Sri Lanka Promotions//NONSGML v1.0//EN
VERSION:2.0
CALSCALE:GREGORIAN
METHOD:PUBLISH
X-WR-CALNAME:Sri Lanka Promotions
X-ORIGINAL-URL:http://srilanka-promotions.com
X-WR-CALDESC:Events for Sri Lanka Promotions
BEGIN:VEVENT
DTSTART:20150211T000000
DTEND:20150217T235900
DTSTAMP:20260423T114419
CREATED:20150211T102109
LAST-MODIFIED:20150211T102204
UID:7884@http://srilanka-promotions.com
SUMMARY:Google Drive Get Free 2GB Extra For Completing Online Security Checkup 11 - 17 Feb 2015
DESCRIPTION:Take 2 minutes to complete a simple Security Checkup and be rewarded for it.. For more information, visit [ http://srilanka-promotions.com/computers-accessories-software/google-drive-get-free-2gb-extra-for-completing-online-security-checkup-11-17-feb-2015-7884/ ]. 
LOCATION:
URL:http://srilanka-promotions.com/computers-accessories-software/google-drive-get-free-2gb-extra-for-completing-online-security-checkup-11-17-feb-2015-7884/
END:VEVENT
END:VCALENDAR