BEGIN:VCALENDAR
PRODID:-//Sri Lanka Promotions//NONSGML v1.0//EN
VERSION:2.0
CALSCALE:GREGORIAN
METHOD:PUBLISH
X-WR-CALNAME:Sri Lanka Promotions
X-ORIGINAL-URL:http://srilanka-promotions.com
X-WR-CALDESC:Events for Sri Lanka Promotions
BEGIN:VEVENT
DTSTART:20150401T000000
DTEND:20150701T235900
DTSTAMP:20260419T181409
CREATED:20150327T152758
LAST-MODIFIED:20150702T000105
UID:8048@http://srilanka-promotions.com
SUMMARY:LightInTheBox $10 OFF Storewide Coupon Code 1 Apr - 1 Jul 2015
DESCRIPTION:Get $10 off when you make a minimum purchase of $100.. For more information, visit [ http://srilanka-promotions.com/department-stores/lightinthebox-10-off-storewide-coupon-code-1-apr-1-jul-2015-8048/ ]. 
LOCATION:
URL:http://srilanka-promotions.com/department-stores/lightinthebox-10-off-storewide-coupon-code-1-apr-1-jul-2015-8048/
END:VEVENT
END:VCALENDAR