BEGIN:VCALENDAR
PRODID:-//Sri Lanka Promotions//NONSGML v1.0//EN
VERSION:2.0
CALSCALE:GREGORIAN
METHOD:PUBLISH
X-WR-CALNAME:Sri Lanka Promotions
X-ORIGINAL-URL:http://srilanka-promotions.com
X-WR-CALDESC:Events for Sri Lanka Promotions
BEGIN:VEVENT
DTSTART:20150606T000000
DTEND:20150630T235900
DTSTAMP:20260423T213317
CREATED:20150605T231149
LAST-MODIFIED:20150605T231149
UID:8343@http://srilanka-promotions.com
SUMMARY:CyberLink Media Suite 10% OFF Coupon Code 6 - 30 Jun 2015
DESCRIPTION:Get a complete set of software to Create, Play, Burn, Convert and Share your media at home or school at 10% off with this coupon code. For more information, visit [ http://srilanka-promotions.com/computers-accessories-software/cyberlink-media-suite-10-off-coupon-code-6-30-jun-2015-8343/ ]. 
LOCATION:
URL:http://srilanka-promotions.com/computers-accessories-software/cyberlink-media-suite-10-off-coupon-code-6-30-jun-2015-8343/
END:VEVENT
END:VCALENDAR