BEGIN:VCALENDAR
PRODID:-//Sri Lanka Promotions//NONSGML v1.0//EN
VERSION:2.0
CALSCALE:GREGORIAN
METHOD:PUBLISH
X-WR-CALNAME:Sri Lanka Promotions
X-ORIGINAL-URL:http://srilanka-promotions.com
X-WR-CALDESC:Events for Sri Lanka Promotions
BEGIN:VEVENT
DTSTART:20150606T000000
DTEND:20150607T235900
DTSTAMP:20260420T172936
CREATED:20150605T231546
LAST-MODIFIED:20150605T231546
UID:8349@http://srilanka-promotions.com
SUMMARY:Singer 50% Off All Products Grand Sale @ Sudarshi Hall Near BMICH 6 - 7 Jun 2015
DESCRIPTION:Enjoy 50% off on all products. For more information, visit [ http://srilanka-promotions.com/warehouse-sales/singer-50-off-all-products-grand-sale-sudarshi-hall-near-bmich-6-7-jun-2015-8349/ ]. 
LOCATION:
URL:http://srilanka-promotions.com/warehouse-sales/singer-50-off-all-products-grand-sale-sudarshi-hall-near-bmich-6-7-jun-2015-8349/
END:VEVENT
END:VCALENDAR