BEGIN:VCALENDAR
PRODID:-//Sri Lanka Promotions//NONSGML v1.0//EN
VERSION:2.0
CALSCALE:GREGORIAN
METHOD:PUBLISH
X-WR-CALNAME:Sri Lanka Promotions
X-ORIGINAL-URL:http://srilanka-promotions.com
X-WR-CALDESC:Events for Sri Lanka Promotions
BEGIN:VEVENT
DTSTART:20150718T000000
DTEND:20150815T235900
DTSTAMP:20260419T195200
CREATED:20150718T112659
LAST-MODIFIED:20150718T112659
UID:8426@http://srilanka-promotions.com
SUMMARY:MiniInTheBox US$5 OFF $45 Spend Storewide Coupon Code 18 Jul - 15 Aug 2015
DESCRIPTION:Get US$5 OFF when you make a minimum purchase of US$45. FREE *worldwide* shipping.. For more information, visit [ http://srilanka-promotions.com/department-stores/miniinthebox-us5-off-45-spend-storewide-coupon-code-18-jul-15-aug-2015-8426/ ]. 
LOCATION:
URL:http://srilanka-promotions.com/department-stores/miniinthebox-us5-off-45-spend-storewide-coupon-code-18-jul-15-aug-2015-8426/
END:VEVENT
END:VCALENDAR