BEGIN:VCALENDAR
PRODID:-//Sri Lanka Promotions//NONSGML v1.0//EN
VERSION:2.0
CALSCALE:GREGORIAN
METHOD:PUBLISH
X-WR-CALNAME:Sri Lanka Promotions
X-ORIGINAL-URL:http://srilanka-promotions.com
X-WR-CALDESC:Events for Sri Lanka Promotions
BEGIN:VEVENT
DTSTART:20150803T000000
DTEND:20150804T235900
DTSTAMP:20260423T213658
CREATED:20150803T213042
LAST-MODIFIED:20150803T213042
UID:8481@http://srilanka-promotions.com
SUMMARY:CyberLink 60% OFF PowerDVD 15 Ultra Movie & Media Player Software 3 - 4 Aug 2015
DESCRIPTION:Comes with FREE Power2Go 10, a media burning & backup software. Windows 10 does not natively support DVD or Blu-ray playback. PowerDVD has you covered.. For more information, visit [ http://srilanka-promotions.com/computers-accessories-software/cyberlink-60-off-powerdvd-15-ultra-movie-media-player-software-3-4-aug-2015-8481/ ]. 
LOCATION:
URL:http://srilanka-promotions.com/computers-accessories-software/cyberlink-60-off-powerdvd-15-ultra-movie-media-player-software-3-4-aug-2015-8481/
END:VEVENT
END:VCALENDAR